Workbook

Sheet Ski Club
A1: Member Last Name | B1: First Name | C1: E-mail | D1: MTU Student | E1: Involvment Link | G1: Times Skied | H1: Used Skis | I1: Boot Size
A2: Abbott | B2: Mike | C2: mdabbott@mtu.edu | D2: N | E2: Y
A3: Agnew | B3: Megan | C3: magnew18@gmail.com | D3: Y | F3: need MTU email | G3: 4 | H3: Y | I3: 42
A4: Aho | B4: Jared | D4: N | G4: 1 | H4: Y | I4: 42
A5: Aitken-Palmer | B5: Wade | C5: wjaitken@mtu.edu | D5: Y | E5: Y | G5: 8 | H5: Y | I5: 46
A6: Anderson | B6: Jacob | C6: jdander1@mtu.edu | D6: Y | G6: 7 | H6: Y | I6: 44
A7: Anderson | B7: Matt | D7: S
A8: Anderson | B8: Ross | D8: S
A9: Arnold | B9: Nathan | C9: nbarnold@mtu.edu | D9: Y | G9: 4 | H9: Y | I9: 43
A10: Ashbaugh | B10: Will | C10: wdashbau@mtu.edu | D10: Y | G10: 6 | H10: Y | I10: 47
A11: Ashley | B11: Jacob | C11: jfashley@mtu.edu | D11: Y | G11: 1 | H11: Y | I11: 46
A12: Aymond | B12: Tyler | C12: taymond@mtu.edu | D12: Y | G12: 3 | H12: Y | I12: 43
A13: Azzi | B13: Giovana F. | C13: gfazzi@mtu.edu | D13: Y | G13: 2 | H13: Y | I13: 41
A14: Babb | B14: Jake | C14: jjbabb@mtu.edu | D14: Y | G14: 3 | H14: Y | I14: 43
A15: Baic | B15: Brendan | C15: bbaic@mtu.edu | D15: N | G15: 1 | H15: Y | I15: 44
A16: Bailey | B16: Avery | C16: averyb@mtu.edu | D16: Y | G16: 2 | H16: Y | I16: 42
A17: Bailey | B17: Marshall | C17: mbbailey@mtu.edu | D17: Y | G17: 2 | H17: Y | I17: 43
A18: Baker | B18: James | C18: jamesbak@mtu.edu | D18: Y | E18: Y | G18: 1 | H18: Y | I18: 46
A19: Baker | B19: Jennie | C19: jennieb@mtu.edu | D19: Y | G19: 1 | H19: Y | I19: 41
A20: Bank | B20: Alex | C20: adbank@mtu.edu | D20: Y | G20: 11 | H20: Y | I20: 45
A21: Barber | B21: Beau | C21: bnbarber@mtu.edu | D21: Y | E21: Y | G21: 2 | H21: Y | I21: 42
A22: Bartkowick | B22: Michael | C22: msbartko@mtu.edu | D22: Y | G22: 1 | H22: Y | I22: 44
A23: Barton | B23: Tyler | C23: tbarton@mtu.edu | D23: Y | E23: Y | G23: 4 | H23: Y | I23: 47
A24: Baskins | B24: Michael | C24: mrbaskin@mtu.edu | D24: Y | E24: Y | G24: 5 | H24: Y | I24: 46
A25: Bassette | B25: Family1 | D25: N | G25: 1 | H25: Y
A26: Bassette | B26: Family2 | D26: N | G26: 1 | H26: Y
A27: Bassette | B27: Family3 | D27: N | G27: 1 | H27: Y
A28: Bassette | B28: Family4 | D28: N | G28: 1 | H28: Y
A29: Bassette | B29: Family5 | D29: N | G29: 1 | H29: Y
A30: Bassette | B30: Family6 | D30: N | G30: 1 | H30: Y
A31: Bastian | B31: Robert | C31: rbastian91@gmail.com | D31: N | G31: 2 | H31: Y | I31: 45
A32: Beatty | B32: Kelsey | C32: beattlkt@umich.edu | D32: N | G32: 5 | H32: Y | I32: 42
A33: Behrmann | B33: Colton | C33: cjbehrma@mtu.edu | D33: Y | G33: 1 | H33: Y | I33: 44
A34: Behrmann | B34: Michael | C34: mhbehrmann@gmail.com | D34: N | G34: 1 | H34: Y | I34: 47
A35: Bender | B35: Dylan | C35: djbender@mtu.edu | D35: Y | E35: Y | G35: 13 | H35: Y | I35: 47
A36: Benoy | B36: Derek | C36: dtbenoy@mtu.edu | D36: Y | E36: Y | G36: 2 | H36: Y | I36: 42
A37: Bergman | B37: Brenda | C37: bgbergma@mtu.edu | D37: Y | G37: 4 | H37: Y | I37: 42
A38: Bergquist | B38: Alexandra | C38: avbergqu@mtu.edu | D38: Y | E38: Y | G38: 7 | H38: Y | I38: 40
A39: Bergstrom | B39: Melissa | C39: mmberst@mtu.edu | D39: Y | G39: 2 | H39: Y | I39: 41
A40: Bharti | B40: Shivam | C40: sbharti@mtu.edu | D40: Y | E40: Y
...

Sheet Charts
B21: 1 | C21: =counting!C1 -> 189 | D21: =C21*B21 -> 189
B22: 2 | C22: =counting!D1 -> 87 | D22: =C22*B22 -> 174 | J22: Size | K22: Members | L22: Skate | M22: Classic
B23: 3 | C23: =counting!E1 -> 54 | D23: =C23*B23 -> 162 | J23: 36 | K23: 0 | L23: 0 | M23: 1
B24: 4 | C24: =counting!F1 -> 52 | D24: =C24*B24 -> 208 | J24: 37 | K24: 4 | L24: 0 | M24: 2
B25: 5 | C25: =counting!G1 -> 40 | D25: =C25*B25 -> 200 | J25: 38 | K25: 13 | L25: 1 | M25: 4
B26: 6 | C26: =counting!H1 -> 27 | D26: =C26*B26 -> 162 | J26: 39 | K26: 14 | L26: 3 | M26: 4
B27: 7 | C27: =counting!I1 -> 16 | D27: =C27*B27 -> 112 | J27: 40 | K27: 23 | L27: 4 | M27: 5
B28: 8 | C28: =counting!J1 -> 9 | D28: =C28*B28 -> 72 | J28: 41 | K28: 36 | L28: 5 | M28: 5
B29: 9 | C29: =counting!K1 -> 6 | D29: =C29*B29 -> 54 | J29: 42 | K29: 45 | L29: 4 | M29: 6
B30: 10 | C30: =counting!L1 -> 4 | D30: =C30*B30 -> 40 | J30: 43 | K30: 49 | L30: 4 | M30: 7
B31: 11 | C31: =counting!M1 -> 3 | D31: =C31*B31 -> 33 | J31: 44 | K31: 57 | L31: 6 | M31: 9
B32: 12+ | C32: =counting!Y1 -> 15 | D32: =C32*15 -> 225 | J32: 45 | K32: 43 | L32: 6 | M32: 9
C33: =SUM(C21:C32) -> 502 | D33: =SUM(D21:D32) -> 1631 | J33: 46 | K33: 31 | L33: 4 | M33: 6
J34: 47 | K34: 13 | L34: 5 | M34: 5
J35: 48 | K35: 11 | L35: 3 | M35: 5
J36: 49 | K36: 1 | L36: 1 | M36: 3
J37: 50 | K37: 4 | L37: 1 | M37: 1

Sheet not on member list
A1: These people checked out skis but I could not find them on the membership list
C2: # of ski uses | D2: boot size
A3: Alian | B3: Sara | C3: 1 | D3: 40
A4: Andersn | B4: Nels | C4: 1 | D4: 43
A5: Bhandari | B5: Janjarjan | C5: 1 | D5: 42
A6: Ceglowski | B6: Julia | C6: 1 | D6: 38
A7: Djeffal | B7: Adnan | C7: 2 | D7: 41
A8: Eddy | B8: Simon | C8: 4 | D8: 43
A9: Eskola | B9: Kristina | C9: 3 | D9: 38
A10: Eskola | B10: Mary | C10: 1 | D10: 38
A11: Fase | B11: Brandi | C11: 1 | D11: 42 | E11: snowshoe
A12: Foorstor | B12: Sam | C12: 2 | D12: 41
A13: Gamino | B13: Maria | C13: 1 | D13: 44
A14: Havens | B14: Tim | C14: 1 | D14: 42
A15: Heinonen | B15: Sue | C15: 5 | D15: 39
A16: Heinonen | B16: Jess | C16: 1 | D16: 39
A17: Johnson | B17: Emil | C17: 4 | D17: 45
A18: Johnson | B18: Norm | C18: 1 | D18: 45
A19: Johnson | B19: Matthew | C19: 1 | D19: 36
A20: Kennedy | B20: Andrew | C20: 1 | D20: 44
A21: Lffoa | B21: Russ | C21: 1 | D21: 46
A22: Medeiros | B22: Leonor | C22: 1 | D22: 39
A23: Mott | B23: Rion | C23: 2 | D23: 47
A24: Mulligan | B24: Pat | C24: 1
A25: Nouhan | B25: Monica | C25: 1 | D25: 39
A26: Pharoah | B26: Jon | C26: 1 | D26: 48
A27: Pietila | B27: Kara | C27: 1
A28: Ragland | B28: Karen | C28: 1 | D28: 40
A29: Schenk | B29: Kyle | C29: 1 | D29: 46
A30: Stanke | B30: Kimberly | C30: 1
A31: Stroup | B31: Tom | C31: 1 | D31: 44
A32: Trubac | B32: Spencer | C32: 6 | D32: 46
A33: Usangroth | B33: Jared | C33: 1 | D33: 43
A34: Wang | B34: Huanxin | C34: 1 | D34: 38
A35: Wisniewski | B35: Spencer | C35: 1 | D35: 41
A36: Zayan | B36: Julia | C36: 2 | D36: 40
A37: Chlapik | B37: Ken | C37: 1 | D37: 42

Sheet Rotc
A1: Name | B1: Email | C1: EUR Size | D1: Involement Link | E1: Times Skied
A2: Abbott, Alexander T | B2: atabbott@mtu.edu | C2: 49 | E2: 5 | H2: Abbott, Alexander T | J2: Abbott | K2: Alexander
A3: Amato, Anthony J | B3: ajamato@mtu.edu | C3: 45 | E3: 4 | H3: Amato, Anthony J | J3: Amato | K3: Anthony
A4: Bigalke, Alec J | B4: ajbigalk@mtu.edu | C4: 46 | E4: 7 | H4: Bigalke, Alec J | J4: Bigalke | K4: Alec
A5: Braun, Michael D | B5: mdbraun@mtu.edu | C5: 44 | E5: 4 | H5: Braun, Michael D | J5: Braun | K5: Michael
A6: Cappo, Matthew A | B6: macappo@mtu.edu | C6: 48 | E6: 3 | H6: Cappo, Matthew A | J6: Cappo | K6: Matthew
A7: Carey, Grace F | B7: gfcarey@mtu.edu | C7: 38 | E7: 7 | H7: Carey, Grace F | J7: Carey | K7: Grace
A8: Chaney, Sydney L | B8: slchaney@mtu.edu | C8: 37 | E8: 4 | H8: Chaney, Sydney L | J8: Chaney | K8: Sydney
A9: Coon, Kelsey A | B9: kacoon@mtu.edu | C9: 39 | E9: 4 | H9: Coon, Kelsey A | J9: Coon | K9: Kelsey
A10: Cory, Kyle J | B10: kjcory@mtu.edu | C10: 48 | D10: Y | E10: 7 | H10: Cory, Kyle J | J10: Corey | K10: Kyle
A11: Crapsey, Aaron | C11: 46 | E11: 3 | H11: Crapsey, Aaron | J11: Crapsey | K11: Aaron
A12: Doering, Erik C | B12: ecdoerin@mtu.edu | C12: 41 | E12: 4 | H12: Doering, Erik C | J12: Doering | K12: Erik
A13: Donajkowski, Martin T | B13: mtdonajk@mtu.edu | C13: 43 | E13: 5 | H13: Donajkowski, Martin T | J13: Donajkowski | K13: Martin
A14: Erkkila, Kevin R | B14: krerkkil@mtu.edu | C14: 48 | E14: 6 | H14: Erkkila, Kevin R | J14: Erkkila | K14: Kevin
A15: Farmer, Adam | B15: aefarmer@mtu.edu | C15: 45 | E15: 4 | H15: Farmer, Adam | J15: Farmer | K15: Adam
A16: Fitzpatrick, Connor | C16: 45 | E16: 3 | H16: Fitzpatrick, Connor | J16: Fitzpatrick | K16: Connnor
A17: Flaim, Adam R | B17: arflaim@mtu.edu | C17: 44 | E17: 6 | H17: Flaim, Adam R | J17: Flaim | K17: Adam
A18: Forbush, Emmitt K | B18: ekforbus@mtu.edu | C18: 47 | E18: 5 | H18: Forbush, Emmitt K | J18: Forbush | K18: Emmitt
A19: Garner, Joseph L | B19: jlgarner@mtu.edu | C19: 46 | E19: 6 | H19: Garner, Joseph L | J19: Garner | K19: Joseph
A20: Gregg, Cameron D | B20: cgregg@mtu.edu | C20: 43 | H20: Gregg, Cameron D | J20: Gregg | K20: Cameron
A21: Grifka, Tyler L | B21: tlgrifka@mtu.edu | C21: 45 | E21: 5 | H21: Grifka, Tyler L | J21: Grifka | K21: Tyler
A22: Grossmann, Luke A | B22: lagrossm@mtu.edu | C22: 45 | D22: Y | E22: 5 | H22: Grossmann, Luke A | J22: Grossman | K22: Luke
A23: Heimerl, Joel P | B23: jpheimer@mtu.edu | C23: 50 | H23: Heimerl, Joel P | J23: Heimerl | K23: Joel
A24: Hendricks, Jacob T | B24: jthendri@mtu.edu | C24: 44 | E24: 4 | H24: Hendricks, Jacob T | J24: Hendricks | K24: Jacob
A25: Herzog, Jacob W | B25: jwherzog@mtu.edu | C25: 44 | E25: 5 | H25: Herzog, Jacob W | J25: Herzog | K25: Jacob
A26: Jennings, Steven | B26: sjjennin@mtu.edu | C26: 45 | E26: 6 | F26: ** | H26: Jennings, Steven | J26: Jennings | K26: Steven
A27: Jones, Nicholas D | B27: ndjones@mtu.edu | C27: 43 | E27: 7 | H27: Jones, Nicholas D | J27: Jones | K27: Nicholas
A28: Jung, Justin | C28: 43 | E28: 3 | H28: Jung, Justin | J28: Jung | K28: Justin
A29: Kinder, Bryce J | B29: bjkinder@mtu.edu | C29: 45 | E29: 4 | H29: Kinder, Bryce J | J29: Kinder | K29: Bryce
A30: Kostick, Nicholas A | B30: nakostic@mtu.edu | C30: 47 | E30: 5 | H30: Kostick, Nicholas A | J30: Kostick | K30: Nicholas
A31: Lackey, Anthony R | B31: arlackey@mtu.edu | C31: 45 | E31: 5 | H31: Lackey, Anthony R | J31: Lackey | K31: Anthony
A32: Manthei, Troy C | B32: tcmanthe@mtu.edu | C32: 44 | E32: 5 | H32: Manthei, Troy C | J32: Manthie | K32: Troy
A33: Maxwell, Jacob H | B33: jhmaxwel@mtu.edu | C33: 44 | E33: 4 | H33: Maxwell, Jacob H | J33: Maxwell | K33: Jacob
A34: Pavliscak, Justin M | B34: jmpavlis@mtu.edu | C34: 43 | E34: 5 | H34: Pavliscak, Justin M | J34: Pavliscak | K34: Justin
A35: Pionke, Adam J | B35: ajpionke@mtu.edu | C35: 43 | E35: 5 | H35: Pionke, Adam J | J35: Pionke | K35: Adam
A36: Price, William | B36: wjprice@mtu.edu | C36: 50 | H36: Price, William | J36: Price | K36: William
A37: Pscheid, Matthew J | B37: mjpschei@mtu.edu | C37: 43 | E37: 6 | H37: Pscheid, Matthew J | J37: Pscheid | K37: Matthew
A38: Rouse, Kelly C | B38: kcrouse@mtu.edu | C38: 41 | E38: 5 | H38: Rouse, Kelly C | J38: Rouse | K38: Kelly
A39: Ruotsala, Taylor | C39: 42 | E39: 1 | H39: Ruotsala, Taylor | J39: Ruotsala | K39: Taylor
A40: Russ, Kip | B40: ksruss@mtu.edu | C40: 45 | E40: 4 | H40: Russ, Kip | J40: Russ | K40: Kip
...

Sheet Total Names
A1: Abbott | B1: Alexander
A2: Abbott | B2: Mike
A3: Agnew | B3: Megan
A4: Aho | B4: Jared
A5: Aitken-Palmer | B5: Wade
A6: Amato | B6: Anthony
A7: Anderson | B7: Jacob
A8: Anderson | B8: Matt
A9: Anderson | B9: Ross
A10: Arnold | B10: Nathan
A11: Ashbaugh | B11: Will
A12: Ashley | B12: Jacob
... A602: Zwissler | B602: Bonnie

Sheet new by Blair
A5: Haikonen | B5: Anssi | C5: amhaikon@mtu.edy | D5: Y
A6: Hatfield | B6: Lucy | C6: lahatfie@mtu.edu | D6: Y
A7: Hopp | B7: Chet | C7: cjhopp@mtu.edu | D7: Y
A8: Hubbard | B8: Ken | C8: krbubbar@mtu.edu | D8: Y
A9: Kueber Watkins | B9: Melanie | C9: mkueber@mtu.edu | D9: N
A10: Kuhl | B10: Sarah | C10: sekuhl@mtu.edu | D10: N
A11: Smith | B11: Jacob | C11: jacobsmi@mtu.edu | D11: Y
A12: Stein | B12: Maggie | C12: maggies@mtu.edu | D12: Y
A13: Tollefson | B13: Leah | C13: lctollef@mtu.edu | D13: Y
A14: Zgnilec | B14: Nathan | C14: nozgnile@mtu.edu | D14: Y
A15: Suzuki | B15: Naoko | C15: seizanboy@yahoo.co.jp | D15: N
A16: Heinonen | B16: Alex | C16: aheinonen_8@hotmail.com | D16: Y
... A31: Pascoe | B31: Anna | C31: aepascoe@mtu.edu | D31: Y
A32: Mousavi | B32: Seyedmehdi | C32: smousavi@mtu.edu
A33: Freeman | B33: Denise | C33: dmfreema@mtu.edu | D33: Y
A34: Jackels | B34: Nathan | C34: njjackel@mtu.edu | D34: Y
A35: Cruikshank | B35: Owen | C35: odcruiks@mtu.edu | D35: Y
A36: Koszewski | B36: Christian | C36: cskoszew@mtu.edu | D36: Y
A37: Glienke | B37: Susanne | C37: sglienke@mtu.edu | D37: N
A38: Kubicki | B38: Andrea | C38: alkubick@mtu.edu | D38: Y
A39: Reynolds | B39: Craig | C39: cdreynol@mtu.edu | D39: Y
A40: Dannenbring | B40: Samuel | C40: samdannenbring@gmail.com | D40: N
A41: Greutman | B41: Stephen | C41: skgreutm@mtu.edu | D41: Y
A42: Whitney | B42: Becca | C42: rdwhitne@mtu.edu | D42: Y
A43: Potvin | B43: Lynette | C43: lpotvin@gmail.com | D43: N
A44: Deur | B44: Conner | C44: csdeur@mtu.edu | D44: Y
... A49: Egemen | B49: Yeliz | C49: yegemen@mtu.edu | D49: Y
A50: Hazma | B50: Pomi | D50: Y | E50: email??
A51: Lopetrome | B51: Tiffany | C51: talopetr@mtu.edu | D51: Y
A52: Billman | B52: Joe | C52: jrbillma@mtu.edu | D52: Y
A53: Knudsen | B53: Daniel | C53: deknudse@mtu.edu | D53: Y
A54: Teimourpour | B54: Mohammad | C54: mteimour@mtu.edu | D54: Y
A55: Farshad | B55: Amir | C55: farshad@mtu.edu | D55: Y
A56: Musalay | B56: Pratik | C56: psmusala@mtu.edu | D56: Y
A57: Williams | B57: Jake | C57: jfwillia@mtu.edu | D57: Y
A58: Gooding | B58: James | C58: jegoodin@mtu.edu | D58: Y
A59: Nouhan | B59: Peter | C59: pmnouhan@mtu.edu | D59: Y
A60: Stockard | B60: Daniel | C60: dmstocka@mtu.edu | D60: Y
A61: Neves | B61: Bria | D61: N
A62: Shaw | B62: Camille | D62: N
...

Sheet counting
B1: total use | C1: =SUM(C3:C1252) -> 189 | D1: =SUM(D3:D1252) -> 87 | E1: =SUM(E3:E1252) -> 54 | F1: =SUM(F3:F1252) -> 52 | G1: =SUM(G3:G1252) -> 40 | H1: =SUM(H3:H1252) -> 27 | I1: =SUM(I3:I1252) -> 16 | J1: =SUM(J3:J1252) -> 9 | ... X1: =SUM(X3:X1252) -> 0 | Y1: =SUM(N1:X1) -> 15
A2: people | B2: times | C2: 1 | D2: =1+C2 -> 2 | E2: =1+D2 -> 3 | F2: =1+E2 -> 4 | G2: =1+F2 -> 5 | H2: =1+G2 -> 6 | I2: =1+H2 -> 7 | J2: =1+I2 -> 8 | K2: =1+J2 -> 9 | ... X2: =1+W2 -> 22
A3: ='Ski Club'!G2 -> 0 | C3: =IF($A3=C$2,1,0) -> 0 | D3: =IF($A3=D$2,1,0) -> 0 | E3: =IF($A3=E$2,1,0) -> 0 | F3: =IF($A3=F$2,1,0) -> 0 | G3: =IF($A3=G$2,1,0) -> 0 | H3: =IF($A3=H$2,1,0) -> 0 | I3: =IF($A3=I$2,1,0) -> 0 | J3: =IF($A3=J$2,1,0) -> 0 | ... X3: =IF($A3=X$2,1,0) -> 0
A4: ='Ski Club'!G3 -> 4 | C4: =IF($A4=C$2,1,0) -> 0 | D4: =IF($A4=D$2,1,0) -> 0 | E4: =IF($A4=E$2,1,0) -> 0 | F4: =IF($A4=F$2,1,0) -> 1 | G4: =IF($A4=G$2,1,0) -> 0 | H4: =IF($A4=H$2,1,0) -> 0 | I4: =IF($A4=I$2,1,0) -> 0 | J4: =IF($A4=J$2,1,0) -> 0 | ... X4: =IF($A4=X$2,1,0) -> 0
A5: ='Ski Club'!G4 -> 1 | C5: =IF($A5=C$2,1,0) -> 1 | D5: =IF($A5=D$2,1,0) -> 0 | E5: =IF($A5=E$2,1,0) -> 0 | F5: =IF($A5=F$2,1,0) -> 0 | G5: =IF($A5=G$2,1,0) -> 0 | H5: =IF($A5=H$2,1,0) -> 0 | I5: =IF($A5=I$2,1,0) -> 0 | J5: =IF($A5=J$2,1,0) -> 0 | ... X5: =IF($A5=X$2,1,0) -> 0
A6: ='Ski Club'!G5 -> 8 | C6: =IF($A6=C$2,1,0) -> 0 | D6: =IF($A6=D$2,1,0) -> 0 | E6: =IF($A6=E$2,1,0) -> 0 | F6: =IF($A6=F$2,1,0) -> 0 | G6: =IF($A6=G$2,1,0) -> 0 | H6: =IF($A6=H$2,1,0) -> 0 | I6: =IF($A6=I$2,1,0) -> 0 | J6: =IF($A6=J$2,1,0) -> 1 | ... X6: =IF($A6=X$2,1,0) -> 0
A7: ='Ski Club'!G6 -> 7 | C7: =IF($A7=C$2,1,0) -> 0 | D7: =IF($A7=D$2,1,0) -> 0 | E7: =IF($A7=E$2,1,0) -> 0 | F7: =IF($A7=F$2,1,0) -> 0 | G7: =IF($A7=G$2,1,0) -> 0 | H7: =IF($A7=H$2,1,0) -> 0 | I7: =IF($A7=I$2,1,0) -> 1 | J7: =IF($A7=J$2,1,0) -> 0 | ... X7: =IF($A7=X$2,1,0) -> 0
A8: ='Ski Club'!G7 -> 0 | C8: =IF($A8=C$2,1,0) -> 0 | D8: =IF($A8=D$2,1,0) -> 0 | E8: =IF($A8=E$2,1,0) -> 0 | F8: =IF($A8=F$2,1,0) -> 0 | G8: =IF($A8=G$2,1,0) -> 0 | H8: =IF($A8=H$2,1,0) -> 0 | I8: =IF($A8=I$2,1,0) -> 0 | J8: =IF($A8=J$2,1,0) -> 0 | ... X8: =IF($A8=X$2,1,0) -> 0
A9: ='Ski Club'!G8 -> 0 | C9: =IF($A9=C$2,1,0) -> 0 | D9: =IF($A9=D$2,1,0) -> 0 | E9: =IF($A9=E$2,1,0) -> 0 | F9: =IF($A9=F$2,1,0) -> 0 | G9: =IF($A9=G$2,1,0) -> 0 | H9: =IF($A9=H$2,1,0) -> 0 | I9: =IF($A9=I$2,1,0) -> 0 | J9: =IF($A9=J$2,1,0) -> 0 | ... X9: =IF($A9=X$2,1,0) -> 0
A10: ='Ski Club'!G9 -> 4 | C10: =IF($A10=C$2,1,0) -> 0 | D10: =IF($A10=D$2,1,0) -> 0 | E10: =IF($A10=E$2,1,0) -> 0 | F10: =IF($A10=F$2,1,0) -> 1 | G10: =IF($A10=G$2,1,0) -> 0 | H10: =IF($A10=H$2,1,0) -> 0 | I10: =IF($A10=I$2,1,0) -> 0 | J10: =IF($A10=J$2,1,0) -> 0 | ... X10: =IF($A10=X$2,1,0) -> 0
A11: ='Ski Club'!G10 -> 6 | C11: =IF($A11=C$2,1,0) -> 0 | D11: =IF($A11=D$2,1,0) -> 0 | E11: =IF($A11=E$2,1,0) -> 0 | F11: =IF($A11=F$2,1,0) -> 0 | G11: =IF($A11=G$2,1,0) -> 0 | H11: =IF($A11=H$2,1,0) -> 1 | I11: =IF($A11=I$2,1,0) -> 0 | J11: =IF($A11=J$2,1,0) -> 0 | ... X11: =IF($A11=X$2,1,0) -> 0
A12: ='Ski Club'!G11 -> 1 | C12: =IF($A12=C$2,1,0) -> 1 | D12: =IF($A12=D$2,1,0) -> 0 | E12: =IF($A12=E$2,1,0) -> 0 | F12: =IF($A12=F$2,1,0) -> 0 | G12: =IF($A12=G$2,1,0) -> 0 | H12: =IF($A12=H$2,1,0) -> 0 | I12: =IF($A12=I$2,1,0) -> 0 | J12: =IF($A12=J$2,1,0) -> 0 | ... X12: =IF($A12=X$2,1,0) -> 0
A13: ='Ski Club'!G12 -> 3 | C13: =IF($A13=C$2,1,0) -> 0 | D13: =IF($A13=D$2,1,0) -> 0 | E13: =IF($A13=E$2,1,0) -> 1 | F13: =IF($A13=F$2,1,0) -> 0 | G13: =IF($A13=G$2,1,0) -> 0 | H13: =IF($A13=H$2,1,0) -> 0 | I13: =IF($A13=I$2,1,0) -> 0 | J13: =IF($A13=J$2,1,0) -> 0 | ... X13: =IF($A13=X$2,1,0) -> 0
A14: ='Ski Club'!G13 -> 2 | C14: =IF($A14=C$2,1,0) -> 0 | D14: =IF($A14=D$2,1,0) -> 1 | E14: =IF($A14=E$2,1,0) -> 0 | F14: =IF($A14=F$2,1,0) -> 0 | G14: =IF($A14=G$2,1,0) -> 0 | H14: =IF($A14=H$2,1,0) -> 0 | I14: =IF($A14=I$2,1,0) -> 0 | J14: =IF($A14=J$2,1,0) -> 0 | ... X14: =IF($A14=X$2,1,0) -> 0
... A107: ='Ski Club'!G106 -> 0 | C107: =IF($A107=C$2,1,0) -> 0 | D107: =IF($A107=D$2,1,0) -> 0 | E107: =IF($A107=E$2,1,0) -> 0 | F107: =IF($A107=F$2,1,0) -> 0 | G107: =IF($A107=G$2,1,0) -> 0 | H107: =IF($A107=H$2,1,0) -> 0 | I107: =IF($A107=I$2,1,0) -> 0 | J107: =IF($A107=J$2,1,0) -> 0 | ... X107: =IF($A107=X$2,1,0) -> 0
A108: ='Ski Club'!G106 -> 0 | C108: =IF($A108=C$2,1,0) -> 0 | D108: =IF($A108=D$2,1,0) -> 0 | E108: =IF($A108=E$2,1,0) -> 0 | F108: =IF($A108=F$2,1,0) -> 0 | G108: =IF($A108=G$2,1,0) -> 0 | H108: =IF($A108=H$2,1,0) -> 0 | I108: =IF($A108=I$2,1,0) -> 0 | J108: =IF($A108=J$2,1,0) -> 0 | ... X108: =IF($A108=X$2,1,0) -> 0
A109: ='Ski Club'!G107 -> 0 | C109: =IF($A109=C$2,1,0) -> 0 | D109: =IF($A109=D$2,1,0) -> 0 | E109: =IF($A109=E$2,1,0) -> 0 | F109: =IF($A109=F$2,1,0) -> 0 | G109: =IF($A109=G$2,1,0) -> 0 | H109: =IF($A109=H$2,1,0) -> 0 | I109: =IF($A109=I$2,1,0) -> 0 | J109: =IF($A109=J$2,1,0) -> 0 | ... X109: =IF($A109=X$2,1,0) -> 0
A110: ='Ski Club'!G108 -> 1 | C110: =IF($A110=C$2,1,0) -> 1 | D110: =IF($A110=D$2,1,0) -> 0 | E110: =IF($A110=E$2,1,0) -> 0 | F110: =IF($A110=F$2,1,0) -> 0 | G110: =IF($A110=G$2,1,0) -> 0 | H110: =IF($A110=H$2,1,0) -> 0 | I110: =IF($A110=I$2,1,0) -> 0 | J110: =IF($A110=J$2,1,0) -> 0 | ... X110: =IF($A110=X$2,1,0) -> 0
A111: ='Ski Club'!G109 -> 0 | C111: =IF($A111=C$2,1,0) -> 0 | D111: =IF($A111=D$2,1,0) -> 0 | E111: =IF($A111=E$2,1,0) -> 0 | F111: =IF($A111=F$2,1,0) -> 0 | G111: =IF($A111=G$2,1,0) -> 0 | H111: =IF($A111=H$2,1,0) -> 0 | I111: =IF($A111=I$2,1,0) -> 0 | J111: =IF($A111=J$2,1,0) -> 0 | ... X111: =IF($A111=X$2,1,0) -> 0
A112: ='Ski Club'!G110 -> 0 | C112: =IF($A112=C$2,1,0) -> 0 | D112: =IF($A112=D$2,1,0) -> 0 | E112: =IF($A112=E$2,1,0) -> 0 | F112: =IF($A112=F$2,1,0) -> 0 | G112: =IF($A112=G$2,1,0) -> 0 | H112: =IF($A112=H$2,1,0) -> 0 | I112: =IF($A112=I$2,1,0) -> 0 | J112: =IF($A112=J$2,1,0) -> 0 | ... X112: =IF($A112=X$2,1,0) -> 0
A113: ='Ski Club'!G111 -> 0 | C113: =IF($A113=C$2,1,0) -> 0 | D113: =IF($A113=D$2,1,0) -> 0 | E113: =IF($A113=E$2,1,0) -> 0 | F113: =IF($A113=F$2,1,0) -> 0 | G113: =IF($A113=G$2,1,0) -> 0 | H113: =IF($A113=H$2,1,0) -> 0 | I113: =IF($A113=I$2,1,0) -> 0 | J113: =IF($A113=J$2,1,0) -> 0 | ... X113: =IF($A113=X$2,1,0) -> 0
A114: ='Ski Club'!G112 -> 0 | C114: =IF($A114=C$2,1,0) -> 0 | D114: =IF($A114=D$2,1,0) -> 0 | E114: =IF($A114=E$2,1,0) -> 0 | F114: =IF($A114=F$2,1,0) -> 0 | G114: =IF($A114=G$2,1,0) -> 0 | H114: =IF($A114=H$2,1,0) -> 0 | I114: =IF($A114=I$2,1,0) -> 0 | J114: =IF($A114=J$2,1,0) -> 0 | ... X114: =IF($A114=X$2,1,0) -> 0
A115: ='Ski Club'!G113 -> 0 | C115: =IF($A115=C$2,1,0) -> 0 | D115: =IF($A115=D$2,1,0) -> 0 | E115: =IF($A115=E$2,1,0) -> 0 | F115: =IF($A115=F$2,1,0) -> 0 | G115: =IF($A115=G$2,1,0) -> 0 | H115: =IF($A115=H$2,1,0) -> 0 | I115: =IF($A115=I$2,1,0) -> 0 | J115: =IF($A115=J$2,1,0) -> 0 | ... X115: =IF($A115=X$2,1,0) -> 0
A116: ='Ski Club'!G114 -> 1 | C116: =IF($A116=C$2,1,0) -> 1 | D116: =IF($A116=D$2,1,0) -> 0 | E116: =IF($A116=E$2,1,0) -> 0 | F116: =IF($A116=F$2,1,0) -> 0 | G116: =IF($A116=G$2,1,0) -> 0 | H116: =IF($A116=H$2,1,0) -> 0 | I116: =IF($A116=I$2,1,0) -> 0 | J116: =IF($A116=J$2,1,0) -> 0 | ... X116: =IF($A116=X$2,1,0) -> 0
A117: ='Ski Club'!G115 -> 3 | C117: =IF($A117=C$2,1,0) -> 0 | D117: =IF($A117=D$2,1,0) -> 0 | E117: =IF($A117=E$2,1,0) -> 1 | F117: =IF($A117=F$2,1,0) -> 0 | G117: =IF($A117=G$2,1,0) -> 0 | H117: =IF($A117=H$2,1,0) -> 0 | I117: =IF($A117=I$2,1,0) -> 0 | J117: =IF($A117=J$2,1,0) -> 0 | ... X117: =IF($A117=X$2,1,0) -> 0
A118: ='Ski Club'!G116 -> 1 | C118: =IF($A118=C$2,1,0) -> 1 | D118: =IF($A118=D$2,1,0) -> 0 | E118: =IF($A118=E$2,1,0) -> 0 | F118: =IF($A118=F$2,1,0) -> 0 | G118: =IF($A118=G$2,1,0) -> 0 | H118: =IF($A118=H$2,1,0) -> 0 | I118: =IF($A118=I$2,1,0) -> 0 | J118: =IF($A118=J$2,1,0) -> 0 | ... X118: =IF($A118=X$2,1,0) -> 0
A119: ='Ski Club'!G117 -> 2 | C119: =IF($A119=C$2,1,0) -> 0 | D119: =IF($A119=D$2,1,0) -> 1 | E119: =IF($A119=E$2,1,0) -> 0 | F119: =IF($A119=F$2,1,0) -> 0 | G119: =IF($A119=G$2,1,0) -> 0 | H119: =IF($A119=H$2,1,0) -> 0 | I119: =IF($A119=I$2,1,0) -> 0 | J119: =IF($A119=J$2,1,0) -> 0 | ... X119: =IF($A119=X$2,1,0) -> 0
... A1187: ='Ski Club'!G1185 -> 0 | C1187: =IF($A1187=C$2,1,0) -> 0 | D1187: =IF($A1187=D$2,1,0) -> 0 | E1187: =IF($A1187=E$2,1,0) -> 0 | F1187: =IF($A1187=F$2,1,0) -> 0 | G1187: =IF($A1187=G$2,1,0) -> 0 | H1187: =IF($A1187=H$2,1,0) -> 0 | I1187: =IF($A1187=I$2,1,0) -> 0 | J1187: =IF($A1187=J$2,1,0) -> 0 | ... X1187: =IF($A1187=X$2,1,0) -> 0
A1188: =Rotc!E2 -> 5 | B1188: ROTC | C1188: =IF($A1188=C$2,1,0) -> 0 | D1188: =IF($A1188=D$2,1,0) -> 0 | E1188: =IF($A1188=E$2,1,0) -> 0 | F1188: =IF($A1188=F$2,1,0) -> 0 | G1188: =IF($A1188=G$2,1,0) -> 1 | H1188: =IF($A1188=H$2,1,0) -> 0 | I1188: =IF($A1188=I$2,1,0) -> 0 | J1188: =IF($A1188=J$2,1,0) -> 0 | ... X1188: =IF($A1188=X$2,1,0) -> 0
A1189: =Rotc!E3 -> 4 | C1189: =IF($A1189=C$2,1,0) -> 0 | D1189: =IF($A1189=D$2,1,0) -> 0 | E1189: =IF($A1189=E$2,1,0) -> 0 | F1189: =IF($A1189=F$2,1,0) -> 1 | G1189: =IF($A1189=G$2,1,0) -> 0 | H1189: =IF($A1189=H$2,1,0) -> 0 | I1189: =IF($A1189=I$2,1,0) -> 0 | J1189: =IF($A1189=J$2,1,0) -> 0 | ... X1189: =IF($A1189=X$2,1,0) -> 0
A1190: =Rotc!E4 -> 7 | C1190: =IF($A1190=C$2,1,0) -> 0 | D1190: =IF($A1190=D$2,1,0) -> 0 | E1190: =IF($A1190=E$2,1,0) -> 0 | F1190: =IF($A1190=F$2,1,0) -> 0 | G1190: =IF($A1190=G$2,1,0) -> 0 | H1190: =IF($A1190=H$2,1,0) -> 0 | I1190: =IF($A1190=I$2,1,0) -> 1 | J1190: =IF($A1190=J$2,1,0) -> 0 | ... X1190: =IF($A1190=X$2,1,0) -> 0
A1191: =Rotc!E5 -> 4 | C1191: =IF($A1191=C$2,1,0) -> 0 | D1191: =IF($A1191=D$2,1,0) -> 0 | E1191: =IF($A1191=E$2,1,0) -> 0 | F1191: =IF($A1191=F$2,1,0) -> 1 | G1191: =IF($A1191=G$2,1,0) -> 0 | H1191: =IF($A1191=H$2,1,0) -> 0 | I1191: =IF($A1191=I$2,1,0) -> 0 | J1191: =IF($A1191=J$2,1,0) -> 0 | ... X1191: =IF($A1191=X$2,1,0) -> 0
A1192: =Rotc!E6 -> 3 | C1192: =IF($A1192=C$2,1,0) -> 0 | D1192: =IF($A1192=D$2,1,0) -> 0 | E1192: =IF($A1192=E$2,1,0) -> 1 | F1192: =IF($A1192=F$2,1,0) -> 0 | G1192: =IF($A1192=G$2,1,0) -> 0 | H1192: =IF($A1192=H$2,1,0) -> 0 | I1192: =IF($A1192=I$2,1,0) -> 0 | J1192: =IF($A1192=J$2,1,0) -> 0 | ... X1192: =IF($A1192=X$2,1,0) -> 0
A1193: =Rotc!E7 -> 7 | C1193: =IF($A1193=C$2,1,0) -> 0 | D1193: =IF($A1193=D$2,1,0) -> 0 | E1193: =IF($A1193=E$2,1,0) -> 0 | F1193: =IF($A1193=F$2,1,0) -> 0 | G1193: =IF($A1193=G$2,1,0) -> 0 | H1193: =IF($A1193=H$2,1,0) -> 0 | I1193: =IF($A1193=I$2,1,0) -> 1 | J1193: =IF($A1193=J$2,1,0) -> 0 | ... X1193: =IF($A1193=X$2,1,0) -> 0
A1194: =Rotc!E8 -> 4 | C1194: =IF($A1194=C$2,1,0) -> 0 | D1194: =IF($A1194=D$2,1,0) -> 0 | E1194: =IF($A1194=E$2,1,0) -> 0 | F1194: =IF($A1194=F$2,1,0) -> 1 | G1194: =IF($A1194=G$2,1,0) -> 0 | H1194: =IF($A1194=H$2,1,0) -> 0 | I1194: =IF($A1194=I$2,1,0) -> 0 | J1194: =IF($A1194=J$2,1,0) -> 0 | ... X1194: =IF($A1194=X$2,1,0) -> 0
A1195: =Rotc!E9 -> 4 | C1195: =IF($A1195=C$2,1,0) -> 0 | D1195: =IF($A1195=D$2,1,0) -> 0 | E1195: =IF($A1195=E$2,1,0) -> 0 | F1195: =IF($A1195=F$2,1,0) -> 1 | G1195: =IF($A1195=G$2,1,0) -> 0 | H1195: =IF($A1195=H$2,1,0) -> 0 | I1195: =IF($A1195=I$2,1,0) -> 0 | J1195: =IF($A1195=J$2,1,0) -> 0 | ... X1195: =IF($A1195=X$2,1,0) -> 0
A1196: =Rotc!E10 -> 7 | C1196: =IF($A1196=C$2,1,0) -> 0 | D1196: =IF($A1196=D$2,1,0) -> 0 | E1196: =IF($A1196=E$2,1,0) -> 0 | F1196: =IF($A1196=F$2,1,0) -> 0 | G1196: =IF($A1196=G$2,1,0) -> 0 | H1196: =IF($A1196=H$2,1,0) -> 0 | I1196: =IF($A1196=I$2,1,0) -> 1 | J1196: =IF($A1196=J$2,1,0) -> 0 | ... X1196: =IF($A1196=X$2,1,0) -> 0
A1197: =Rotc!E11 -> 3 | C1197: =IF($A1197=C$2,1,0) -> 0 | D1197: =IF($A1197=D$2,1,0) -> 0 | E1197: =IF($A1197=E$2,1,0) -> 1 | F1197: =IF($A1197=F$2,1,0) -> 0 | G1197: =IF($A1197=G$2,1,0) -> 0 | H1197: =IF($A1197=H$2,1,0) -> 0 | I1197: =IF($A1197=I$2,1,0) -> 0 | J1197: =IF($A1197=J$2,1,0) -> 0 | ... X1197: =IF($A1197=X$2,1,0) -> 0
A1198: =Rotc!E12 -> 4 | C1198: =IF($A1198=C$2,1,0) -> 0 | D1198: =IF($A1198=D$2,1,0) -> 0 | E1198: =IF($A1198=E$2,1,0) -> 0 | F1198: =IF($A1198=F$2,1,0) -> 1 | G1198: =IF($A1198=G$2,1,0) -> 0 | H1198: =IF($A1198=H$2,1,0) -> 0 | I1198: =IF($A1198=I$2,1,0) -> 0 | J1198: =IF($A1198=J$2,1,0) -> 0 | ... X1198: =IF($A1198=X$2,1,0) -> 0
A1199: =Rotc!E13 -> 5 | C1199: =IF($A1199=C$2,1,0) -> 0 | D1199: =IF($A1199=D$2,1,0) -> 0 | E1199: =IF($A1199=E$2,1,0) -> 0 | F1199: =IF($A1199=F$2,1,0) -> 0 | G1199: =IF($A1199=G$2,1,0) -> 1 | H1199: =IF($A1199=H$2,1,0) -> 0 | I1199: =IF($A1199=I$2,1,0) -> 0 | J1199: =IF($A1199=J$2,1,0) -> 0 | ... X1199: =IF($A1199=X$2,1,0) -> 0
...
